BEGIN:VCALENDAR
VERSION:2.0
PRODID:-//Miranda Aisling - ECPv6.15.13//NONSGML v1.0//EN
CALSCALE:GREGORIAN
METHOD:PUBLISH
X-WR-CALNAME:Miranda Aisling
X-ORIGINAL-URL:http://mirandaaisling.com
X-WR-CALDESC:Events for Miranda Aisling
REFRESH-INTERVAL;VALUE=DURATION:PT1H
X-Robots-Tag:noindex
X-PUBLISHED-TTL:PT1H
BEGIN:VTIMEZONE
TZID:America/New_York
BEGIN:DAYLIGHT
TZOFFSETFROM:-0500
TZOFFSETTO:-0400
TZNAME:EDT
DTSTART:20240310T070000
END:DAYLIGHT
BEGIN:STANDARD
TZOFFSETFROM:-0400
TZOFFSETTO:-0500
TZNAME:EST
DTSTART:20241103T060000
END:STANDARD
BEGIN:DAYLIGHT
TZOFFSETFROM:-0500
TZOFFSETTO:-0400
TZNAME:EDT
DTSTART:20250309T070000
END:DAYLIGHT
BEGIN:STANDARD
TZOFFSETFROM:-0400
TZOFFSETTO:-0500
TZNAME:EST
DTSTART:20251102T060000
END:STANDARD
BEGIN:DAYLIGHT
TZOFFSETFROM:-0500
TZOFFSETTO:-0400
TZNAME:EDT
DTSTART:20260308T070000
END:DAYLIGHT
BEGIN:STANDARD
TZOFFSETFROM:-0400
TZOFFSETTO:-0500
TZNAME:EST
DTSTART:20261101T060000
END:STANDARD
END:VTIMEZONE
BEGIN:VEVENT
DTSTART;TZID=America/New_York:20250315T130000
DTEND;TZID=America/New_York:20250315T170000
DTSTAMP:20260423T082030
CREATED:20250219T210458Z
LAST-MODIFIED:20250219T210544Z
UID:2895-1742043600-1742058000@mirandaaisling.com
SUMMARY:Altering Wheel-Thrown Pottery Workshop
DESCRIPTION:Register Online at arthaven.org
URL:http://mirandaaisling.com/event/altering-wheel-thrown-pottery-workshop/
LOCATION:Cape Ann Art Haven\, 20 Maplewood Ave\, Unit 3\, Gloucester\, 01930\, United States
CATEGORIES:Clay
ATTACH;FMTTYPE=image/jpeg:http://mirandaaisling.com/wp-content/uploads/2025/02/Miranda-Workshop-Flyer-Instagram-2-1.jpg
END:VEVENT
END:VCALENDAR