BEGIN:VCALENDAR
VERSION:2.0
PRODID:-//Miranda Aisling - ECPv6.15.13//NONSGML v1.0//EN
CALSCALE:GREGORIAN
METHOD:PUBLISH
X-ORIGINAL-URL:http://mirandaaisling.com
X-WR-CALDESC:Events for Miranda Aisling
REFRESH-INTERVAL;VALUE=DURATION:PT1H
X-Robots-Tag:noindex
X-PUBLISHED-TTL:PT1H
BEGIN:VTIMEZONE
TZID:America/New_York
BEGIN:DAYLIGHT
TZOFFSETFROM:-0500
TZOFFSETTO:-0400
TZNAME:EDT
DTSTART:20240310T070000
END:DAYLIGHT
BEGIN:STANDARD
TZOFFSETFROM:-0400
TZOFFSETTO:-0500
TZNAME:EST
DTSTART:20241103T060000
END:STANDARD
BEGIN:DAYLIGHT
TZOFFSETFROM:-0500
TZOFFSETTO:-0400
TZNAME:EDT
DTSTART:20250309T070000
END:DAYLIGHT
BEGIN:STANDARD
TZOFFSETFROM:-0400
TZOFFSETTO:-0500
TZNAME:EST
DTSTART:20251102T060000
END:STANDARD
BEGIN:DAYLIGHT
TZOFFSETFROM:-0500
TZOFFSETTO:-0400
TZNAME:EDT
DTSTART:20260308T070000
END:DAYLIGHT
BEGIN:STANDARD
TZOFFSETFROM:-0400
TZOFFSETTO:-0500
TZNAME:EST
DTSTART:20261101T060000
END:STANDARD
END:VTIMEZONE
BEGIN:VEVENT
DTSTART;TZID=America/New_York:20250208T180000
DTEND;TZID=America/New_York:20250208T203000
DTSTAMP:20260423T071228
CREATED:20250107T183659Z
LAST-MODIFIED:20250107T183659Z
UID:2887-1739037600-1739046600@mirandaaisling.com
SUMMARY:Midwinter Waltz with Erica Pisaturo and Joey Thieman
DESCRIPTION:Waltz the night away with the first edition of what will be a regular occurrence at MAGMA – a folk waltz night! This is not the formal\, ballroom-style waltz. This is the easy going\, easy to learn\, and very fun to do folk waltz – with fabulous live music from Erica Pisaturo and Joey Thieman. If you’ve never waltzed before\, or would like to brush up\, join for a lesson at 6:00 pm\, otherwise come to enjoy the dancing and the music starting at 6:30 pm. \n6:00 pm – Lesson with Miranda Aisling & Ed Dahlmer \n6:30-8:30pm Waltz Dance Social with music from Erica Pisaturo and Joey Thieman \nAll are welcome\, no dancing experience necessary \nTickets $10-30 sliding scale\, available online HERE\, or at the door \n\n\nERICA PISATURO\nErica Pisaturo is a native of New England\, where she began her violin studies at the age of four. She performs regularly with the Lobster Cove String Quartet\, Symphony by the Sea (where she is also Orchestra Librarian)\, and as Principal Second Violin with the Cape Ann Symphony. After earning a BA in Music and Art History from Bowdoin College in Brunswick\, Maine\, she escaped the harsh winters to earn an MFA at the Savannah College of Art and Design in Savannah\, Georgia. While in the South\, Erica played violin in a number of professional symphony orchestras\, including the Hilton Head Symphony and Savannah Philharmonic\, both of which she also served as Orchestra Librarian.\n\nJOEY THIEMAN\nJoey Thieman is a multi-instrumentalist and singer-songwriter based in Boston\, MA. His forthcoming album “Letters\, Words\, Sentences\, Songs” is a culmination of his years of experience exploring and performing in different musical genres\, artfully weaving together influences from folk\, jazz\, and rock for an original take on the age-old story of love and loss.
URL:http://mirandaaisling.com/event/midwinter-waltz-with-erica-pisaturo-and-joey-thieman/
LOCATION:MAGMA\, 11 Pleasant Street\, Gloucester\, MA\, 01930\, United States
CATEGORIES:Community Art
ATTACH;FMTTYPE=image/png:http://mirandaaisling.com/wp-content/uploads/2025/01/Midwinter-Waltz-2.png
END:VEVENT
BEGIN:VEVENT
DTSTART;TZID=America/New_York:20250112T180000
DTEND;TZID=America/New_York:20250112T200000
DTSTAMP:20260423T071228
CREATED:20250104T211057Z
LAST-MODIFIED:20250104T211057Z
UID:2884-1736704800-1736712000@mirandaaisling.com
SUMMARY:A Sunday Salon with Heather Atwood and Miranda Aisling
DESCRIPTION:Calling Cape Ann Creatives! Start the new year with a Sunday Salon at MAGMA on Sunday\, January 12\, 2025 from 6:00 – 8:00 pm. This informal gathering will be hosted by Cape Ann artists and organizers Heather Atwood and Miranda Aisling.\n\nAttendees are invited to bring a project they’re working on\, an idea they’re thinking through\, or just a desire to engage in thoughtful\, creative conversations. The aim is to create an inspiring\, convivial space to foster creativity in Cape Ann. Feel free to reach out with questions\, ideas\, or suggestions as we develop this new event series!\n\nRegister here
URL:http://mirandaaisling.com/event/a-sunday-salon-with-heather-atwood-and-miranda-aisling/
LOCATION:MAGMA\, 11 Pleasant Street\, Gloucester\, MA\, 01930\, United States
CATEGORIES:Community Art
ATTACH;FMTTYPE=image/png:http://mirandaaisling.com/wp-content/uploads/2025/01/Sunday-Salon-1.png
END:VEVENT
END:VCALENDAR